BEGIN:VCALENDAR
VERSION:2.0
PRODID:-//185.214.148.28//NONSGML kigkonsult.se iCalcreator 2.20//
CALSCALE:GREGORIAN
METHOD:PUBLISH
X-WR-TIMEZONE:UTC
BEGIN:VEVENT
UID:event303@Delta Duikteam Alkmaar
DTSTAMP:20260422T121204Z
CATEGORIES:Diversen
DESCRIPTION:Clubavond\nCategorie: Diversen\nLink: http://deltaduikteam.nl/d
 dn/index.php?option=com_jem&view=event&id=303:clubavond\n
DTSTART:20211029T200000Z
DTEND:20211029T200000Z
LOCATION:IJsclub St. Pancras\,Beverplein 5\,1834GS Sint Pancras
SUMMARY:Clubavond
URL:http://deltaduikteam.nl/ddn/index.php?option=com_jem&view=event&id=303:
 clubavond
END:VEVENT
END:VCALENDAR
